BEGIN:VCALENDAR
VERSION:2.0
PRODID:-//AEAA - Associação dos Engenheiros de Olímpia/SP - ECPv6.1.3//NONSGML v1.0//EN
CALSCALE:GREGORIAN
METHOD:PUBLISH
X-WR-CALNAME:AEAA - Associação dos Engenheiros de Olímpia/SP
X-ORIGINAL-URL:http://aeaaolimpia.com.br/site
X-WR-CALDESC:Eventos para AEAA - Associação dos Engenheiros de Olímpia/SP
REFRESH-INTERVAL;VALUE=DURATION:PT1H
X-Robots-Tag:noindex
X-PUBLISHED-TTL:PT1H
BEGIN:VTIMEZONE
TZID:America/Sao_Paulo
BEGIN:STANDARD
TZOFFSETFROM:-0200
TZOFFSETTO:-0300
TZNAME:-03
DTSTART:20190217T020000
END:STANDARD
END:VTIMEZONE
BEGIN:VEVENT
DTSTART;TZID=America/Sao_Paulo:20241023T193000
DTEND;TZID=America/Sao_Paulo:20241023T213000
DTSTAMP:20260425T003537
CREATED:20240906T180918Z
LAST-MODIFIED:20240906T180951Z
UID:234-1729711800-1729719000@aeaaolimpia.com.br
SUMMARY:Especialista vai discutir impacto de vizinhança na AEAA de Olímpia.
DESCRIPTION:Associação dos Engenheiros\, Arquitetos e Agrônomos da Região de Olímpia (AEAA) realizará\, em parceria com o Conselho Regional de Engenharia e Agronomia de São Paulo (CREA-SP)\, uma palestra sobre o Estudo de Impacto de Vizinhança (EIV) no dia 23 de outubro de 2024\, às 19h30. O evento ocorrerá na sede da associação\, localizada na Alameda Fransisc Boitar\, 250\, no bairro Jardim Universitário. \nO palestrante será o professor e doutor Fábio Noel Stanganini\, geógrafo pela Universidade Estadual Paulista (UNESP)\, com mestrado e doutorado em Engenharia Urbana pela Universidade Federal de São Carlos (UFSCar). Stanganini possui ampla experiência em planejamento urbano e ambiental\, geoprocessamento\, sensoriamento remoto e cartografia temática. \nEle é professor permanente do Programa de Pós-Graduação em Engenharia Urbana (PPGEU)\, no Departamento de Engenharia Civil da UFSCar\, e atua em projetos relacionados ao mapeamento urbano ambiental com uso de drones. \nA palestra abordará os principais aspectos e a importância do Estudo de Impacto de Vizinhança para o planejamento urbano\, ferramenta essencial para a avaliação de projetos de grande impacto nas cidades\, como empreendimentos imobiliários\, indústrias e outras obras que podem influenciar na qualidade de vida e na organização do espaço urbano. \nO EIV\, instrumento exigido por lei em algumas situações\, é utilizado para antecipar e mitigar os impactos negativos que uma construção ou intervenção pode gerar na vizinhança e no meio ambiente. O geoprocessamento\, especialidade de Stanganini\, também será discutido como uma ferramenta eficaz nesse processo\, permitindo uma análise detalhada e precisa do território. \nAs inscrições podem ser realizadas via telefone ou WhatsApp\, pelo número (17) 3279-8845\, ou pelo e-mail secretaria@aeaaolimpia.com.br. E também direto pelo link (clique).
URL:http://aeaaolimpia.com.br/site/event/especialista-vai-discutir-impacto-de-vizinhanca-na-aeaa-de-olimpia/
END:VEVENT
BEGIN:VEVENT
DTSTART;TZID=America/Sao_Paulo:20231208T080000
DTEND;TZID=America/Sao_Paulo:20231208T170000
DTSTAMP:20260425T003537
CREATED:20231208T141634Z
LAST-MODIFIED:20231208T141746Z
UID:201-1702022400-1702054800@aeaaolimpia.com.br
SUMMARY:Presidente da AEAA participa da Reunião do Cder em São Paulo.
DESCRIPTION:Na ultima quarta feira\, 06 de dezembro o Presidente da Associação dos Engenheiros\, Arquitetos e Agrônomos da Região de Olímpia\, Paulo Henrique Bossi Cover participou da Reunião Ordinária do CDER-SP que foi realizada no  Espaço Nobre do Centro Cultural FIESP\, em São Paulo. \n \nA Reunião teve sua abertura oficial as 10:30 e teve como programação comunicados sobre SUPRICON\, coworkings\, balanço geral e cartilha nacional do CDER e um encerramento palestral.
URL:http://aeaaolimpia.com.br/site/event/presidente-da-aeaa-participa-da-reuniao-do-cder-em-sao-paulo/
END:VEVENT
BEGIN:VEVENT
DTSTART;TZID=America/Sao_Paulo:20231202T083000
DTEND;TZID=America/Sao_Paulo:20231202T173000
DTSTAMP:20260425T003537
CREATED:20231027T132455Z
LAST-MODIFIED:20231027T132525Z
UID:183-1701505800-1701538200@aeaaolimpia.com.br
SUMMARY:Curso BIM - "Conceitos do Autodesk Revit"
DESCRIPTION:A Associação dos Engenheiros\, Arquitetos e Agrônomos da Região de Olímpia em parceria com o @creasaopaulo ira realizar o CURSO BIM.\nAcesse o link abaixo e faça já sua inscrição! \nhttps://olimpia.portalsca.com.br/
URL:http://aeaaolimpia.com.br/site/event/curso-bim-conceitos-do-autodesk-revit/
END:VEVENT
BEGIN:VEVENT
DTSTART;TZID=America/Sao_Paulo:20230726T080000
DTEND;TZID=America/Sao_Paulo:20230726T170000
DTSTAMP:20260425T003537
CREATED:20230726T111156Z
LAST-MODIFIED:20230726T111156Z
UID:164-1690358400-1690390800@aeaaolimpia.com.br
SUMMARY:Reunião UNACEN em Barretos.
DESCRIPTION:Associação dos Engenheiros\, Arquitetos e Agrônomos da Região de Olímpia marca presença com o Vice Presidente Edvilson Garcia na reunião da UNACEN realizada em Barretos no ultimo sábado ( 22/07/2023). \n  \n  
URL:http://aeaaolimpia.com.br/site/event/reuniao-unacen-em-barretos/
END:VEVENT
BEGIN:VEVENT
DTSTART;TZID=America/Sao_Paulo:20230726T080000
DTEND;TZID=America/Sao_Paulo:20230726T170000
DTSTAMP:20260425T003537
CREATED:20230726T111118Z
LAST-MODIFIED:20230726T111118Z
UID:161-1690358400-1690390800@aeaaolimpia.com.br
SUMMARY:Lançamento de Coworking do Crea-SP e 1º Encontro Nacional de Entidades de Classe.
DESCRIPTION:A Associação dos Engenheiros\, Arquitetos e Agrônomos da Região de Olímpia marca presença através do nosso presidente Paulo Henrique Bossi Cover no lançamento do Coworking do Crea-SP que aconteceu durante o 1º Encontro Nacional de Entidades de Classe no ultimo dia 13 de julho. \n   
URL:http://aeaaolimpia.com.br/site/event/lancamento-de-coworking-do-crea-sp-e-1o-encontro-nacional-de-entidades-de-classe/
END:VEVENT
BEGIN:VEVENT
DTSTART;TZID=America/Sao_Paulo:20230726T080000
DTEND;TZID=America/Sao_Paulo:20230726T170000
DTSTAMP:20260425T003537
CREATED:20230726T111003Z
LAST-MODIFIED:20230726T111003Z
UID:159-1690358400-1690390800@aeaaolimpia.com.br
SUMMARY:Presidente da AEAA participa da Reunião UNACEN em Descalvado-SP.
DESCRIPTION:Presidente da AEAA participa da Reunião UNACEN em Descalvado-SP.\nPosted on 19 de julho de 2023 by Secretaria AEAA\n\n\nA Associação dos Engenheiros\, Arquitetos e Agrônomos da Região de Olímpia através do nosso presidente Paulo Henrique Bossi Cover participou da reunião da UNACEN realizada em Descalvado-SP no dia 24 de junho de 2023 com pauta de Planejamento e controle de Obras.     
URL:http://aeaaolimpia.com.br/site/event/presidente-da-aeaa-participa-da-reuniao-unacen-em-descalvado-sp/
END:VEVENT
BEGIN:VEVENT
DTSTART;TZID=America/Sao_Paulo:20211014T190000
DTEND;TZID=America/Sao_Paulo:20211014T210000
DTSTAMP:20260425T003537
CREATED:20210923T134825Z
LAST-MODIFIED:20210923T143236Z
UID:132-1634238000-1634245200@aeaaolimpia.com.br
SUMMARY:Palestra sobre e-Social- informações trabalhistas\, tributos e SST
DESCRIPTION:Palestra sobre legislação profissional e -Social e SST\, com o palestrante Antonio Alberto Madeira (Engenheiro de Segurança). Para participação no evento\, será arrecadado 1 kg de alimento não perecível por participante\, para doação a entidade social.
URL:http://aeaaolimpia.com.br/site/event/palestra-sobre-e-social-informacoes-trabalhistas-tributos-e-sst/
LOCATION:Associação dos Engenheiros de Olímpia\, Assoc dos Engenheiros Arquit e Agrônomos da Reg Olímpia\, Olímpia\, SP\, 15400-000\, Brasil
END:VEVENT
BEGIN:VEVENT
DTSTART;TZID=America/Sao_Paulo:20191221T080000
DTEND;TZID=America/Sao_Paulo:20191221T170000
DTSTAMP:20260425T003537
CREATED:20191120T163457Z
LAST-MODIFIED:20191120T163457Z
UID:125-1576915200-1576947600@aeaaolimpia.com.br
SUMMARY:Curso NR-10
DESCRIPTION:
URL:http://aeaaolimpia.com.br/site/event/curso-nr-10-5/
END:VEVENT
BEGIN:VEVENT
DTSTART;TZID=America/Sao_Paulo:20191214T080000
DTEND;TZID=America/Sao_Paulo:20191214T170000
DTSTAMP:20260425T003537
CREATED:20191120T163428Z
LAST-MODIFIED:20191120T163428Z
UID:123-1576310400-1576342800@aeaaolimpia.com.br
SUMMARY:Curso NR-10
DESCRIPTION:
URL:http://aeaaolimpia.com.br/site/event/curso-nr-10-4/
END:VEVENT
BEGIN:VEVENT
DTSTART;TZID=America/Sao_Paulo:20191207T080000
DTEND;TZID=America/Sao_Paulo:20191207T170000
DTSTAMP:20260425T003537
CREATED:20191120T163402Z
LAST-MODIFIED:20191120T163402Z
UID:121-1575705600-1575738000@aeaaolimpia.com.br
SUMMARY:Curso NR-10
DESCRIPTION:
URL:http://aeaaolimpia.com.br/site/event/curso-nr-10-3/
END:VEVENT
BEGIN:VEVENT
DTSTART;TZID=America/Sao_Paulo:20191130T080000
DTEND;TZID=America/Sao_Paulo:20191130T170000
DTSTAMP:20260425T003537
CREATED:20191120T163332Z
LAST-MODIFIED:20191120T163332Z
UID:119-1575100800-1575133200@aeaaolimpia.com.br
SUMMARY:Curso NR-10
DESCRIPTION:
URL:http://aeaaolimpia.com.br/site/event/curso-nr-10-2/
END:VEVENT
BEGIN:VEVENT
DTSTART;TZID=America/Sao_Paulo:20191123T080000
DTEND;TZID=America/Sao_Paulo:20191123T170000
DTSTAMP:20260425T003537
CREATED:20191120T163126Z
LAST-MODIFIED:20191120T163126Z
UID:117-1574496000-1574528400@aeaaolimpia.com.br
SUMMARY:Curso NR-10
DESCRIPTION:
URL:http://aeaaolimpia.com.br/site/event/curso-nr-10/
LOCATION:Associação dos Engenheiros de Olímpia\, Assoc dos Engenheiros Arquit e Agrônomos da Reg Olímpia\, Olímpia\, SP\, 15400-000\, Brasil
END:VEVENT
BEGIN:VEVENT
DTSTART;TZID=America/Sao_Paulo:20191108T190000
DTEND;TZID=America/Sao_Paulo:20191108T220000
DTSTAMP:20260425T003537
CREATED:20191107T143434Z
LAST-MODIFIED:20191107T143434Z
UID:114-1573239600-1573250400@aeaaolimpia.com.br
SUMMARY:Seminário NR 12
DESCRIPTION:Os tópicos que serão abordados na apresentação sobre a Norma Regulamentadora 12: \nDefinições de normas – NR\, NBR\, ISO;\nEstatística de acidentes;\nLegislação trabalhista – CLT;\nPrazo para a adequação;\nDefinições de perigo\, risco\, acidente e incidente;\nTópicos da NR 12 revisada;\nCiclo de vida de um sistema de segurança – Apreciação de riscos;\nInterfaces de segurança – Controladores\, relés\, sensores;\nDistância de segurança;\nTipos de comandos seguros;\nSistema Lock-out / Tag-out;\nSinalização de segurança. \nPalestrantes:\nLuciano Luiz Murbach\nFernando Fischer \nInscrições através do e-mail secretaria@aeaaolimpia.com.br \nTaxa de inscrição – 1 pacote de Fralda Geriátrica (Tamanho M ou G)
URL:http://aeaaolimpia.com.br/site/event/seminario-nr-12-2/
LOCATION:Associação dos Engenheiros de Olímpia\, Assoc dos Engenheiros Arquit e Agrônomos da Reg Olímpia\, Olímpia\, SP\, 15400-000\, Brasil
ORGANIZER;CN="AEAA":MAILTO:secretaria@aeaaolimpia.com.br
END:VEVENT
BEGIN:VEVENT
DTSTART;TZID=America/Sao_Paulo:20191107T190000
DTEND;TZID=America/Sao_Paulo:20191107T220000
DTSTAMP:20260425T003537
CREATED:20191107T142756Z
LAST-MODIFIED:20191107T143221Z
UID:109-1573153200-1573164000@aeaaolimpia.com.br
SUMMARY:Seminário NR 12
DESCRIPTION:Os tópicos que serão abordados na apresentação sobre a Norma Regulamentadora 12: \nDefinições de normas – NR\, NBR\, ISO;\nEstatística de acidentes;\nLegislação trabalhista – CLT;\nPrazo para a adequação;\nDefinições de perigo\, risco\, acidente e incidente;\nTópicos da NR 12 revisada;\nCiclo de vida de um sistema de segurança – Apreciação de riscos;\nInterfaces de segurança – Controladores\, relés\, sensores;\nDistância de segurança;\nTipos de comandos seguros;\nSistema Lock-out / Tag-out;\nSinalização de segurança. \nPalestrantes:\nLuciano Luiz Murbach\nFernando Fischer \nInscrições através do e-mail secretaria@aeaaolimpia.com.br \nTaxa de inscrição – 1 pacote de Fralda Geriátrica (Tamanho M ou G)
URL:http://aeaaolimpia.com.br/site/event/seminario-nr-12/
LOCATION:Associação dos Engenheiros de Olímpia\, Assoc dos Engenheiros Arquit e Agrônomos da Reg Olímpia\, Olímpia\, SP\, 15400-000\, Brasil
ORGANIZER;CN="AEAA":MAILTO:secretaria@aeaaolimpia.com.br
END:VEVENT
BEGIN:VEVENT
DTSTART;TZID=America/Sao_Paulo:20190816T090000
DTEND;TZID=America/Sao_Paulo:20190816T170000
DTSTAMP:20260425T003537
CREATED:20190814T165122Z
LAST-MODIFIED:20190814T165505Z
UID:76-1565946000-1565974800@aeaaolimpia.com.br
SUMMARY:Atendimento TECNO PREV.
DESCRIPTION:Será realizada na sede de nossa associação uma reunião com o representante da MUTUA SÃO PAULO\, e que é responsável pela área previdenciária – TECNO PREV. \nEle ficará o dia todo na Associação para atender a todos os profissionais do sistema de nossa região (associados ou não) para divulgar as vantagens deste tipo de previdência privada que é feita em parceria com o Banco do Brasil. \nOs atendimentos podem ser individuais ou em grupos. \nTambém podem ser tratadas e esclarecidas possíveis dúvidas sobre todas as outras opções de negócios que a MUTUA pode nos oferecer.
URL:http://aeaaolimpia.com.br/site/event/atendimento-tecno-prev/
LOCATION:Associação dos Engenheiros de Olímpia\, Assoc dos Engenheiros Arquit e Agrônomos da Reg Olímpia\, Olímpia\, SP\, 15400-000\, Brasil
END:VEVENT
BEGIN:VEVENT
DTSTART;TZID=America/Sao_Paulo:20190702T190000
DTEND;TZID=America/Sao_Paulo:20190702T220000
DTSTAMP:20260425T003537
CREATED:20190701T194747Z
LAST-MODIFIED:20190701T195223Z
UID:46-1562094000-1562104800@aeaaolimpia.com.br
SUMMARY:Palestra sobre legislação profissional e -Social e SST
DESCRIPTION:Palestra sobre legislação profissional e -Social e SST\, com o palestrante Antonio Alberto Madeira (Engenheiro de Segurança). Para participação no evento\, será arrecadado 1 kg de alimento não perecível por participante\, para doação a entidade social.
URL:http://aeaaolimpia.com.br/site/event/palestra-sobre-legislacao-profissional-e-social-e-sst/
LOCATION:Associação dos Engenheiros de Olímpia\, Assoc dos Engenheiros Arquit e Agrônomos da Reg Olímpia\, Olímpia\, SP\, 15400-000\, Brasil
END:VEVENT
END:VCALENDAR